BEGIN:VCALENDAR
VERSION:2.0
PRODID:-//www.eki-sagte.de//NONSGML kigkonsult.se iCalcreator 2.41.92//
CALSCALE:GREGORIAN
METHOD:PUBLISH
UID:63306637-6332-4364-a631-393861323565
X-WR-TIMEZONE:Europe/Berlin
X-LIC-LOCATION:Europe/Berlin
BEGIN:VTIMEZONE
TZID:Europe/Berlin
BEGIN:DAYLIGHT
TZOFFSETFROM:+0100
TZOFFSETTO:+0200
TZNAME:CEST
DTSTART:19700329T020000
RRULE:FREQ=YEARLY;BYDAY=-1SU;BYMONTH=3
END:DAYLIGHT
BEGIN:STANDARD
TZOFFSETFROM:+0200
TZOFFSETTO:+0100
TZNAME:CET
DTSTART:19701025T030000
RRULE:FREQ=YEARLY;BYDAY=-1SU;BYMONTH=10
END:STANDARD
END:VTIMEZONE
BEGIN:VEVENT
UID:62656364-3038-4531-b731-383539373765
DTSTAMP:20260421T162335Z
DESCRIPTION:Weitere Termine:\n Jeden Di. 13.01.2026 bis 22.12.2026\, 19:30 
 bis 21:30 Uhr Außer am: Di. 26.05.2026 Di. 02.06.2026 Di. 28.07.2026\, 19:
 00 bis 21:00 Uhr Di. 04.08.2026 Di. 11.08.2026 Di. 18.08.2026 Di. 25.08.20
 26\n Sa. 07.11.2026\, Zeitplan noch offen\n So. 08.11.2026\, Zeitplan noch
  offen\n \n Veranstaltungsort:\n Gemeindehaus an der Lorenzkirche\n Haupts
 traße 27a\n 78112 St. Georgen\n \n Veranstalter:\n Evangelisches Kantorat 
 St. Georgen\n Hauptstraße 27a\n 78112 St. Georgen
DTSTART;TZID=Europe/Berlin:20260707T193000
DTEND;TZID=Europe/Berlin:20260707T213000
LOCATION:Gemeindehaus an der Lorenzkirche\n - Hauptstraße 27a\n - 78112 St.
  Georgen
SUMMARY:Kantoreiprobe
X-ALT-DESC;FMTTYPE=text/html:Weitere Termine:<br />Jeden Di. 13.01.2026 bis
  22.12.2026\, 19:30 bis 21:30 Uhr Außer am:\n Di. 26.05.2026\n Di. 02.06.2
 026\n Di. 28.07.2026\, 19:00 bis 21:00 Uhr\n Di. 04.08.2026\n Di. 11.08.20
 26\n Di. 18.08.2026\n Di. 25.08.2026<br />Sa. 07.11.2026\, Zeitplan noch o
 ffen<br />So. 08.11.2026\, Zeitplan noch offen<br /><br />Veranstaltungsor
 t: <br />Gemeindehaus an der Lorenzkirche<br />Hauptstraße 27a<br />78112 
 St. Georgen<br /><br />Veranstalter: <br />Evangelisches Kantorat St. Geor
 gen<br />Hauptstraße 27a<br />78112 St. Georgen
END:VEVENT
END:VCALENDAR
