BEGIN:VCALENDAR
VERSION:2.0
PRODID:-//www.eki-sagte.de//NONSGML kigkonsult.se iCalcreator 2.41.92//
CALSCALE:GREGORIAN
METHOD:PUBLISH
UID:64663330-3030-4761-a431-656131313435
X-WR-TIMEZONE:Europe/Berlin
X-LIC-LOCATION:Europe/Berlin
BEGIN:VTIMEZONE
TZID:Europe/Berlin
BEGIN:DAYLIGHT
TZOFFSETFROM:+0100
TZOFFSETTO:+0200
TZNAME:CEST
DTSTART:19700329T020000
RRULE:FREQ=YEARLY;BYDAY=-1SU;BYMONTH=3
END:DAYLIGHT
BEGIN:STANDARD
TZOFFSETFROM:+0200
TZOFFSETTO:+0100
TZNAME:CET
DTSTART:19701025T030000
RRULE:FREQ=YEARLY;BYDAY=-1SU;BYMONTH=10
END:STANDARD
END:VTIMEZONE
BEGIN:VEVENT
UID:62386338-6263-4334-a166-613738356338
DTSTAMP:20260421T135625Z
DESCRIPTION:mit Kindergottesdienst (Pfr. M. Keller)\n \n Veranstaltungsort:
 \n Evang. Kirche Langenschiltach\n Im Tal 21\n 78112 Langenschiltach\n \n 
 Veranstalter:\n Gemeinde: St. Georgen-Tennenbronn - Pfarramt: St. Georgen-
 Tennenbronn\n Hauptstr. 27 A\n 78112 St. Georgen\n Telefon: 07724-94410
DTSTART;TZID=Europe/Berlin:20260503T103000
DTEND;TZID=Europe/Berlin:20260503T113000
LOCATION:Evang. Kirche Langenschiltach\n - Im Tal 21\n - 78112 Langenschilt
 ach
SUMMARY:Gottesdienst mit Abendmahl
X-ALT-DESC;FMTTYPE=text/html:mit Kindergottesdienst (Pfr. M. Keller)<br /><
 br />Veranstaltungsort: <br />Evang. Kirche Langenschiltach<br />Im Tal 21
 <br />78112 Langenschiltach<br /><br />Veranstalter: <br />Gemeinde: St. G
 eorgen-Tennenbronn - Pfarramt: St. Georgen-Tennenbronn<br />Hauptstr. 27 A
 <br />78112 St. Georgen<br />Telefon: 07724-94410
END:VEVENT
END:VCALENDAR
