BEGIN:VCALENDAR
VERSION:2.0
PRODID:-//www.eki-sagte.de//NONSGML kigkonsult.se iCalcreator 2.41.92//
CALSCALE:GREGORIAN
METHOD:PUBLISH
UID:35306364-6137-4434-a531-346139363231
X-WR-TIMEZONE:Europe/Berlin
X-LIC-LOCATION:Europe/Berlin
BEGIN:VTIMEZONE
TZID:Europe/Berlin
BEGIN:DAYLIGHT
TZOFFSETFROM:+0100
TZOFFSETTO:+0200
TZNAME:CEST
DTSTART:19700329T020000
RRULE:FREQ=YEARLY;BYDAY=-1SU;BYMONTH=3
END:DAYLIGHT
BEGIN:STANDARD
TZOFFSETFROM:+0200
TZOFFSETTO:+0100
TZNAME:CET
DTSTART:19701025T030000
RRULE:FREQ=YEARLY;BYDAY=-1SU;BYMONTH=10
END:STANDARD
END:VTIMEZONE
BEGIN:VEVENT
UID:62353462-3836-4361-b934-666430663366
DTSTAMP:20260421T151808Z
DESCRIPTION:(Pfr. M. Keller)\n \n Veranstaltungsort:\n Evang. Kirche Peterz
 ell\n Ortsstraße\n 78112 St. Georgen-Peterzell\n \n Veranstalter:\n Gemein
 de: St. Georgen-Tennenbronn - Pfarramt: St. Georgen-Tennenbronn\n Hauptstr
 . 27 A\n 78112 St. Georgen\n Telefon: 07724-94410
DTSTART;TZID=Europe/Berlin:20260503T090000
DTEND;TZID=Europe/Berlin:20260503T100000
LOCATION:Evang. Kirche Peterzell\n - Ortsstraße\n - 78112 St. Georgen-Peter
 zell
SUMMARY:Gottesdienst mit Abendmahl
X-ALT-DESC;FMTTYPE=text/html:(Pfr. M. Keller)<br /><br />Veranstaltungsort:
  <br />Evang. Kirche Peterzell<br />Ortsstraße<br />78112 St. Georgen-Pete
 rzell<br /><br />Veranstalter: <br />Gemeinde: St. Georgen-Tennenbronn - P
 farramt: St. Georgen-Tennenbronn<br />Hauptstr. 27 A<br />78112 St. George
 n<br />Telefon: 07724-94410
END:VEVENT
END:VCALENDAR
