BEGIN:VCALENDAR
VERSION:2.0
PRODID:-//www.eki-sagte.de//NONSGML kigkonsult.se iCalcreator 2.41.92//
CALSCALE:GREGORIAN
METHOD:PUBLISH
UID:64323230-3335-4163-b265-646130636332
X-WR-TIMEZONE:Europe/Berlin
X-LIC-LOCATION:Europe/Berlin
BEGIN:VTIMEZONE
TZID:Europe/Berlin
BEGIN:DAYLIGHT
TZOFFSETFROM:+0100
TZOFFSETTO:+0200
TZNAME:CEST
DTSTART:19700329T020000
RRULE:FREQ=YEARLY;BYDAY=-1SU;BYMONTH=3
END:DAYLIGHT
BEGIN:STANDARD
TZOFFSETFROM:+0200
TZOFFSETTO:+0100
TZNAME:CET
DTSTART:19701025T030000
RRULE:FREQ=YEARLY;BYDAY=-1SU;BYMONTH=10
END:STANDARD
END:VTIMEZONE
BEGIN:VEVENT
UID:39666430-6535-4230-b535-396431393836
DTSTAMP:20260421T135732Z
DESCRIPTION:EVENSONG - Ökumenischer Abendgottesdienst (Präd. M. Fischer)\n 
 \n Veranstaltungsort:\n Ökumenisches Zentrum St. Georgen\n Schwarzwaldstr.
  2\n 78112 St. Georgen\n \n Veranstalter:\n Gemeinde: St. Georgen-Tennenbr
 onn - Pfarramt: St. Georgen-Tennenbronn\n Hauptstr. 27 A\n 78112 St. Georg
 en\n Telefon: 07724-94410
DTSTART;TZID=Europe/Berlin:20260502T180000
DTEND;TZID=Europe/Berlin:20260502T190000
LOCATION:Ökumenisches Zentrum St. Georgen\n - Schwarzwaldstr. 2\n - 78112 S
 t. Georgen
SUMMARY:Ökumenischer Gottesdienst
X-ALT-DESC;FMTTYPE=text/html:EVENSONG - Ökumenischer Abendgottesdienst (Prä
 d. M. Fischer)<br /><br />Veranstaltungsort: <br />Ökumenisches Zentrum St
 . Georgen<br />Schwarzwaldstr. 2<br />78112 St. Georgen<br /><br />Veranst
 alter: <br />Gemeinde: St. Georgen-Tennenbronn - Pfarramt: St. Georgen-Ten
 nenbronn<br />Hauptstr. 27 A<br />78112 St. Georgen<br />Telefon: 07724-94
 410
END:VEVENT
END:VCALENDAR
