BEGIN:VCALENDAR
VERSION:2.0
PRODID:-//www.eki-sagte.de//NONSGML kigkonsult.se iCalcreator 2.41.92//
CALSCALE:GREGORIAN
METHOD:PUBLISH
UID:38373066-6430-4531-a336-323938303765
X-WR-TIMEZONE:Europe/Berlin
X-LIC-LOCATION:Europe/Berlin
BEGIN:VTIMEZONE
TZID:Europe/Berlin
BEGIN:DAYLIGHT
TZOFFSETFROM:+0100
TZOFFSETTO:+0200
TZNAME:CEST
DTSTART:19700329T020000
RRULE:FREQ=YEARLY;BYDAY=-1SU;BYMONTH=3
END:DAYLIGHT
BEGIN:STANDARD
TZOFFSETFROM:+0200
TZOFFSETTO:+0100
TZNAME:CET
DTSTART:19701025T030000
RRULE:FREQ=YEARLY;BYDAY=-1SU;BYMONTH=10
END:STANDARD
END:VTIMEZONE
BEGIN:VEVENT
UID:33373435-6366-4235-b861-636336383362
DTSTAMP:20260423T094901Z
DESCRIPTION:gemeinsamer Gottesdienst (J. Reimund)\n \n Veranstaltungsort:\n
  Evang. Kirche Langenschiltach\n Im Tal 21\n 78112 Langenschiltach\n \n Ve
 ranstalter:\n Gemeinde: St. Georgen-Tennenbronn - Pfarramt: St. Georgen-Te
 nnenbronn\n Hauptstr. 27 A\n 78112 St. Georgen\n Telefon: 07724-94410
DTSTART;TZID=Europe/Berlin:20260426T100000
DTEND;TZID=Europe/Berlin:20260426T110000
LOCATION:Evang. Kirche Langenschiltach\n - Im Tal 21\n - 78112 Langenschilt
 ach
SUMMARY:Familiengottesdienst
X-ALT-DESC;FMTTYPE=text/html:gemeinsamer Gottesdienst (J. Reimund)<br /><br
  />Veranstaltungsort: <br />Evang. Kirche Langenschiltach<br />Im Tal 21<b
 r />78112 Langenschiltach<br /><br />Veranstalter: <br />Gemeinde: St. Geo
 rgen-Tennenbronn - Pfarramt: St. Georgen-Tennenbronn<br />Hauptstr. 27 A<b
 r />78112 St. Georgen<br />Telefon: 07724-94410
END:VEVENT
END:VCALENDAR
