BEGIN:VCALENDAR
VERSION:2.0
PRODID:-//www.eki-sagte.de//NONSGML kigkonsult.se iCalcreator 2.41.92//
CALSCALE:GREGORIAN
METHOD:PUBLISH
UID:65363563-3965-4131-b430-313734373631
X-WR-TIMEZONE:Europe/Berlin
X-LIC-LOCATION:Europe/Berlin
BEGIN:VTIMEZONE
TZID:Europe/Berlin
BEGIN:DAYLIGHT
TZOFFSETFROM:+0100
TZOFFSETTO:+0200
TZNAME:CEST
DTSTART:19700329T020000
RRULE:FREQ=YEARLY;BYDAY=-1SU;BYMONTH=3
END:DAYLIGHT
BEGIN:STANDARD
TZOFFSETFROM:+0200
TZOFFSETTO:+0100
TZNAME:CET
DTSTART:19701025T030000
RRULE:FREQ=YEARLY;BYDAY=-1SU;BYMONTH=10
END:STANDARD
END:VTIMEZONE
BEGIN:VEVENT
UID:38393436-6265-4135-b062-373933386530
DTSTAMP:20260421T135610Z
DESCRIPTION:Gottesdienst\n \n Veranstaltungsort:\n Evang. Kirche Tennenbron
 n\n Kirchstr. 8\n 78144 Schramberg-Tennenbronn\n \n Veranstalter:\n Gemein
 de: St. Georgen-Tennenbronn - Pfarramt: St. Georgen-Tennenbronn\n Hauptstr
 . 27 A\n 78112 St. Georgen\n Telefon: 07724-94410
DTSTART;TZID=Europe/Berlin:20260426T093000
DTEND;TZID=Europe/Berlin:20260426T103000
LOCATION:Evang. Kirche Tennenbronn\n - Kirchstr. 8\n - 78144 Schramberg-Ten
 nenbronn
SUMMARY:Gottesdienst
X-ALT-DESC;FMTTYPE=text/html:Gottesdienst<br /><br />Veranstaltungsort: <br
  />Evang. Kirche Tennenbronn<br />Kirchstr. 8<br />78144 Schramberg-Tennen
 bronn<br /><br />Veranstalter: <br />Gemeinde: St. Georgen-Tennenbronn - P
 farramt: St. Georgen-Tennenbronn<br />Hauptstr. 27 A<br />78112 St. George
 n<br />Telefon: 07724-94410
END:VEVENT
END:VCALENDAR
