BEGIN:VCALENDAR
VERSION:2.0
PRODID:-//www.eki-sagte.de//NONSGML kigkonsult.se iCalcreator 2.41.92//
CALSCALE:GREGORIAN
METHOD:PUBLISH
UID:62653637-3832-4636-b461-343434663737
X-WR-TIMEZONE:Europe/Berlin
X-LIC-LOCATION:Europe/Berlin
BEGIN:VTIMEZONE
TZID:Europe/Berlin
BEGIN:DAYLIGHT
TZOFFSETFROM:+0100
TZOFFSETTO:+0200
TZNAME:CEST
DTSTART:19700329T020000
RRULE:FREQ=YEARLY;BYDAY=-1SU;BYMONTH=3
END:DAYLIGHT
BEGIN:STANDARD
TZOFFSETFROM:+0200
TZOFFSETTO:+0100
TZNAME:CET
DTSTART:19701025T030000
RRULE:FREQ=YEARLY;BYDAY=-1SU;BYMONTH=10
END:STANDARD
END:VTIMEZONE
BEGIN:VEVENT
UID:35333434-3131-4339-a664-633131343763
DTSTAMP:20260421T135700Z
DESCRIPTION:Familiengottesdienst mit dem Kindergarten und Taufe (Präd. M. F
 ischer)\n \n Veranstaltungsort:\n Ökumenisches Zentrum St. Georgen\n Schwa
 rzwaldstr. 2\n 78112 St. Georgen\n \n Veranstalter:\n Gemeinde: St. George
 n-Tennenbronn - Pfarramt: St. Georgen-Tennenbronn\n Hauptstr. 27 A\n 78112
  St. Georgen\n Telefon: 07724-94410
DTSTART;TZID=Europe/Berlin:20260426T110000
DTEND;TZID=Europe/Berlin:20260426T120000
LOCATION:Ökumenisches Zentrum St. Georgen\n - Schwarzwaldstr. 2\n - 78112 S
 t. Georgen
SUMMARY:Familiengottesdienst
X-ALT-DESC;FMTTYPE=text/html:Familiengottesdienst mit dem Kindergarten und 
 Taufe (Präd. M. Fischer)<br /><br />Veranstaltungsort: <br />Ökumenisches 
 Zentrum St. Georgen<br />Schwarzwaldstr. 2<br />78112 St. Georgen<br /><br
  />Veranstalter: <br />Gemeinde: St. Georgen-Tennenbronn - Pfarramt: St. G
 eorgen-Tennenbronn<br />Hauptstr. 27 A<br />78112 St. Georgen<br />Telefon
 : 07724-94410
END:VEVENT
END:VCALENDAR
