BEGIN:VCALENDAR
VERSION:2.0
PRODID:-//www.eki-sagte.de//NONSGML kigkonsult.se iCalcreator 2.41.92//
CALSCALE:GREGORIAN
METHOD:PUBLISH
UID:66646235-3631-4439-a137-623462323739
X-WR-TIMEZONE:Europe/Berlin
X-LIC-LOCATION:Europe/Berlin
BEGIN:VTIMEZONE
TZID:Europe/Berlin
BEGIN:DAYLIGHT
TZOFFSETFROM:+0100
TZOFFSETTO:+0200
TZNAME:CEST
DTSTART:19700329T020000
RRULE:FREQ=YEARLY;BYDAY=-1SU;BYMONTH=3
END:DAYLIGHT
BEGIN:STANDARD
TZOFFSETFROM:+0200
TZOFFSETTO:+0100
TZNAME:CET
DTSTART:19701025T030000
RRULE:FREQ=YEARLY;BYDAY=-1SU;BYMONTH=10
END:STANDARD
END:VTIMEZONE
BEGIN:VEVENT
UID:61356137-3465-4063-a330-616661333730
DTSTAMP:20260421T151812Z
DESCRIPTION:(Präd. Zeeb)\n \n Veranstaltungsort:\n Lorenzkirche St. Georgen
 \n Hauptstr. 27\n 78112 St. Georgen\n \n Veranstalter:\n Gemeinde: St. Geo
 rgen-Tennenbronn - Pfarramt: St. Georgen-Tennenbronn\n Hauptstr. 27 A\n 78
 112 St. Georgen\n Telefon: 07724-94410
DTSTART;TZID=Europe/Berlin:20260426T093000
DTEND;TZID=Europe/Berlin:20260426T103000
LOCATION:Lorenzkirche St. Georgen\n - Hauptstr. 27\n - 78112 St. Georgen
SUMMARY:Gottesdienst mit Taufen
X-ALT-DESC;FMTTYPE=text/html:(Präd. Zeeb)<br /><br />Veranstaltungsort: <br
  />Lorenzkirche St. Georgen<br />Hauptstr. 27<br />78112 St. Georgen<br />
 <br />Veranstalter: <br />Gemeinde: St. Georgen-Tennenbronn - Pfarramt: St
 . Georgen-Tennenbronn<br />Hauptstr. 27 A<br />78112 St. Georgen<br />Tele
 fon: 07724-94410
END:VEVENT
END:VCALENDAR
