BEGIN:VCALENDAR
VERSION:2.0
PRODID:-//www.eki-sagte.de//NONSGML kigkonsult.se iCalcreator 2.41.92//
CALSCALE:GREGORIAN
METHOD:PUBLISH
UID:36316135-3835-4664-b533-343838386563
X-WR-TIMEZONE:Europe/Berlin
X-LIC-LOCATION:Europe/Berlin
BEGIN:VTIMEZONE
TZID:Europe/Berlin
BEGIN:DAYLIGHT
TZOFFSETFROM:+0100
TZOFFSETTO:+0200
TZNAME:CEST
DTSTART:19700329T020000
RRULE:FREQ=YEARLY;BYDAY=-1SU;BYMONTH=3
END:DAYLIGHT
BEGIN:STANDARD
TZOFFSETFROM:+0200
TZOFFSETTO:+0100
TZNAME:CET
DTSTART:19701025T030000
RRULE:FREQ=YEARLY;BYDAY=-1SU;BYMONTH=10
END:STANDARD
END:VTIMEZONE
BEGIN:VEVENT
UID:63363334-6139-4536-b839-653366383932
DTSTAMP:20260421T151154Z
DESCRIPTION:Veranstaltungsort:\n Evang. Kirche Langenschiltach\n Im Tal 21
 \n 78112 Langenschiltach\n \n Veranstalter:\n Gemeinde: St. Georgen-Tennen
 bronn - Pfarramt: St. Georgen-Tennenbronn\n Hauptstr. 27 A\n 78112 St. Geo
 rgen\n Telefon: 07724-94410
DTSTART;TZID=Europe/Berlin:20260503T183000
DTEND;TZID=Europe/Berlin:20260503T193000
LOCATION:Evang. Kirche Langenschiltach\n - Im Tal 21\n - 78112 Langenschilt
 ach
SUMMARY:Jugendlobpreisabend 'Freie Tankstell
X-ALT-DESC;FMTTYPE=text/html:Veranstaltungsort: <br />Evang. Kirche Langens
 chiltach<br />Im Tal 21<br />78112 Langenschiltach<br /><br />Veranstalter
 : <br />Gemeinde: St. Georgen-Tennenbronn - Pfarramt: St. Georgen-Tennenbr
 onn<br />Hauptstr. 27 A<br />78112 St. Georgen<br />Telefon: 07724-94410
END:VEVENT
END:VCALENDAR
