BEGIN:VCALENDAR
VERSION:2.0
PRODID:-//www.eki-sagte.de//NONSGML kigkonsult.se iCalcreator 2.41.92//
CALSCALE:GREGORIAN
METHOD:PUBLISH
UID:37306531-6331-4237-a664-313238393539
X-WR-TIMEZONE:Europe/Berlin
X-LIC-LOCATION:Europe/Berlin
BEGIN:VTIMEZONE
TZID:Europe/Berlin
BEGIN:DAYLIGHT
TZOFFSETFROM:+0100
TZOFFSETTO:+0200
TZNAME:CEST
DTSTART:19700329T020000
RRULE:FREQ=YEARLY;BYDAY=-1SU;BYMONTH=3
END:DAYLIGHT
BEGIN:STANDARD
TZOFFSETFROM:+0200
TZOFFSETTO:+0100
TZNAME:CET
DTSTART:19701025T030000
RRULE:FREQ=YEARLY;BYDAY=-1SU;BYMONTH=10
END:STANDARD
END:VTIMEZONE
BEGIN:VEVENT
UID:38613631-6138-4137-b838-396337346262
DTSTAMP:20260424T154349Z
DESCRIPTION:Livestream Gottesdienst über Youtube aus der Evangelischen Kirc
 he Tennenbronn Gottesdienst mit Prädikantin Tanja Staiger. Zum Livestream
 \n \n Veranstaltungsort:\n Livestream\n https://www.youtube.com/channel/UC
 lwMMN_9Px6eeZwGMYDLg2w\n INTERNET\n https://www.youtube.com/channel/UClwMM
 N_9Px6eeZwGMYDLg2w\n Livestream Evangelische Kirche Tennenbronn\n \n Veran
 stalter:\n Kirchengemeinde St. Georgen-Tennenbronn\n Haupstraße 27a\n 7811
 2 St. Georgen\n Telefon: +49 7724 94410\n http://eki-sagte.de
DTSTART;TZID=Europe/Berlin:20260426T093000
DTEND;TZID=Europe/Berlin:20260426T103000
LOCATION:Livestream\n - https://www.youtube.com/channel/UClwMMN_9Px6eeZwGMY
 DLg2w\n - INTERNET\n - https://www.youtube.com/channel/UClwMMN_9Px6eeZwGMY
 DLg2w\n - Livestream Evangelische Kirche Tennenbronn
SUMMARY:Livestream Evangelische Kirche Tennenbronn
X-ALT-DESC;FMTTYPE=text/html:Livestream Gottesdienst über Youtube aus der E
 vangelischen Kirche Tennenbronn\n Gottesdienst mit Prädikantin Tanja Staig
 er.\n Zum Livestream<br /><br />Veranstaltungsort: <br />Livestream<br />h
 ttps://www.youtube.com/channel/UClwMMN_9Px6eeZwGMYDLg2w<br />INTERNET<br /
 >https://www.youtube.com/channel/UClwMMN_9Px6eeZwGMYDLg2w<br />Livestream 
 Evangelische Kirche Tennenbronn<br /><br />Veranstalter: <br />Kirchengeme
 inde St. Georgen-Tennenbronn<br />Haupstraße 27a<br />78112 St. Georgen<br
  />Telefon: +49 7724 94410<br />http://eki-sagte.de
END:VEVENT
END:VCALENDAR
