BEGIN:VCALENDAR
VERSION:2.0
PRODID:-//www.eki-sagte.de//NONSGML kigkonsult.se iCalcreator 2.41.92//
CALSCALE:GREGORIAN
METHOD:PUBLISH
UID:35306233-3335-4962-a230-636433343936
X-WR-TIMEZONE:Europe/Berlin
X-LIC-LOCATION:Europe/Berlin
BEGIN:VTIMEZONE
TZID:Europe/Berlin
BEGIN:DAYLIGHT
TZOFFSETFROM:+0100
TZOFFSETTO:+0200
TZNAME:CEST
DTSTART:19700329T020000
RRULE:FREQ=YEARLY;BYDAY=-1SU;BYMONTH=3
END:DAYLIGHT
BEGIN:STANDARD
TZOFFSETFROM:+0200
TZOFFSETTO:+0100
TZNAME:CET
DTSTART:19701025T030000
RRULE:FREQ=YEARLY;BYDAY=-1SU;BYMONTH=10
END:STANDARD
END:VTIMEZONE
BEGIN:VEVENT
UID:31316565-3133-4734-b963-313165333738
DTSTAMP:20260421T150103Z
DESCRIPTION:Trauerfeier in Aussegnungshalle Anneliese Bösinger (Pfrin. Dign
 us)\n \n Veranstaltungsort:\n Evang. Kirche Peterzell\n Ortsstraße\n 78112
  St. Georgen-Peterzell\n \n Veranstalter:\n Gemeinde: St. Georgen-Tennenbr
 onn - Pfarramt: St. Georgen-Tennenbronn\n Hauptstr. 27 A\n 78112 St. Georg
 en\n Telefon: 07724-94410
DTSTART;TZID=Europe/Berlin:20260424T110000
DTEND;TZID=Europe/Berlin:20260424T120000
LOCATION:Evang. Kirche Peterzell\n - Ortsstraße\n - 78112 St. Georgen-Peter
 zell
SUMMARY:Beerdigung
X-ALT-DESC;FMTTYPE=text/html:Trauerfeier in Aussegnungshalle Anneliese Bösi
 nger (Pfrin. Dignus)<br /><br />Veranstaltungsort: <br />Evang. Kirche Pet
 erzell<br />Ortsstraße<br />78112 St. Georgen-Peterzell<br /><br />Veranst
 alter: <br />Gemeinde: St. Georgen-Tennenbronn - Pfarramt: St. Georgen-Ten
 nenbronn<br />Hauptstr. 27 A<br />78112 St. Georgen<br />Telefon: 07724-94
 410
END:VEVENT
END:VCALENDAR
