BEGIN:VCALENDAR
VERSION:2.0
PRODID:-//www.eki-sagte.de//NONSGML kigkonsult.se iCalcreator 2.41.92//
CALSCALE:GREGORIAN
METHOD:PUBLISH
UID:30393931-6633-4332-b031-613430373732
X-WR-TIMEZONE:Europe/Berlin
X-LIC-LOCATION:Europe/Berlin
BEGIN:VTIMEZONE
TZID:Europe/Berlin
BEGIN:DAYLIGHT
TZOFFSETFROM:+0100
TZOFFSETTO:+0200
TZNAME:CEST
DTSTART:19700329T020000
RRULE:FREQ=YEARLY;BYDAY=-1SU;BYMONTH=3
END:DAYLIGHT
BEGIN:STANDARD
TZOFFSETFROM:+0200
TZOFFSETTO:+0100
TZNAME:CET
DTSTART:19701025T030000
RRULE:FREQ=YEARLY;BYDAY=-1SU;BYMONTH=10
END:STANDARD
END:VTIMEZONE
BEGIN:VEVENT
UID:38316162-6131-4532-b938-303135313237
DTSTAMP:20260421T150118Z
DESCRIPTION:Sommer-Hock\n \n Weitere Termine:\n Jeden Di. 13.01.2026 bis 22
 .12.2026\, 19:30 bis 21:30 Uhr Außer am: Di. 26.05.2026 Di. 02.06.2026 Di.
  28.07.2026\, 19:00 bis 21:00 Uhr Di. 04.08.2026 Di. 11.08.2026 Di. 18.08.
 2026 Di. 25.08.2026\n Sa. 07.11.2026\, Zeitplan noch offen\n So. 08.11.202
 6\, Zeitplan noch offen\n \n Jeder bringt nach Wahl etwas zu Essen und eig
 enes Geschirr mit. Für Getränke ist gesorgt.\n \n Veranstaltungsort:\n Gem
 eindehaus an der Lorenzkirche\n Hauptstraße 27a\n 78112 St. Georgen\n \n V
 eranstalter:\n Evangelisches Kantorat St. Georgen\n Hauptstraße 27a\n 7811
 2 St. Georgen
DTSTART;TZID=Europe/Berlin:20260728T190000
DTEND;TZID=Europe/Berlin:20260728T210000
LOCATION:Gemeindehaus an der Lorenzkirche\n - Hauptstraße 27a\n - 78112 St.
  Georgen
SUMMARY:Kantoreiprobe
X-ALT-DESC;FMTTYPE=text/html:Sommer-Hock<br /><br />Weitere Termine:<br />J
 eden Di. 13.01.2026 bis 22.12.2026\, 19:30 bis 21:30 Uhr Außer am:\n Di. 2
 6.05.2026\n Di. 02.06.2026\n Di. 28.07.2026\, 19:00 bis 21:00 Uhr\n Di. 04
 .08.2026\n Di. 11.08.2026\n Di. 18.08.2026\n Di. 25.08.2026<br />Sa. 07.11
 .2026\, Zeitplan noch offen<br />So. 08.11.2026\, Zeitplan noch offen<br /
 ><br />Jeder bringt nach Wahl etwas zu Essen und eigenes Geschirr mit.\n F
 ür Getränke ist gesorgt.<br /><br />Veranstaltungsort: <br />Gemeindehaus 
 an der Lorenzkirche<br />Hauptstraße 27a<br />78112 St. Georgen<br /><br /
 >Veranstalter: <br />Evangelisches Kantorat St. Georgen<br />Hauptstraße 2
 7a<br />78112 St. Georgen
END:VEVENT
END:VCALENDAR
