BEGIN:VCALENDAR
VERSION:2.0
PRODID:-//www.eki-sagte.de//NONSGML kigkonsult.se iCalcreator 2.41.92//
CALSCALE:GREGORIAN
METHOD:PUBLISH
UID:38316332-3236-4235-a337-313263623431
X-WR-TIMEZONE:Europe/Berlin
X-LIC-LOCATION:Europe/Berlin
BEGIN:VTIMEZONE
TZID:Europe/Berlin
BEGIN:DAYLIGHT
TZOFFSETFROM:+0100
TZOFFSETTO:+0200
TZNAME:CEST
DTSTART:19700329T020000
RRULE:FREQ=YEARLY;BYDAY=-1SU;BYMONTH=3
END:DAYLIGHT
BEGIN:STANDARD
TZOFFSETFROM:+0200
TZOFFSETTO:+0100
TZNAME:CET
DTSTART:19701025T030000
RRULE:FREQ=YEARLY;BYDAY=-1SU;BYMONTH=10
END:STANDARD
END:VTIMEZONE
BEGIN:VEVENT
UID:36613731-3036-4631-a136-386533373935
DTSTAMP:20260421T152128Z
DESCRIPTION:Generalprobe\n \n Weitere Termine:\n Jeden Di. 13.01.2026 bis 2
 2.12.2026\, 19:30 bis 21:30 Uhr Außer am: Di. 26.05.2026 Di. 02.06.2026 Di
 . 28.07.2026\, 19:00 bis 21:00 Uhr Di. 04.08.2026 Di. 11.08.2026 Di. 18.08
 .2026 Di. 25.08.2026\n So. 08.11.2026\, Zeitplan noch offen\n \n Veranstal
 tungsort:\n Gemeindehaus an der Lorenzkirche\n Hauptstraße 27a\n 78112 St.
  Georgen\n \n Veranstalter:\n Evangelisches Kantorat St. Georgen\n Hauptst
 raße 27a\n 78112 St. Georgen
DTSTART;VALUE=DATE:20261107
DTEND;VALUE=DATE:20261108
LOCATION:Gemeindehaus an der Lorenzkirche\n - Hauptstraße 27a\n - 78112 St.
  Georgen
SUMMARY:Kantoreiprobe
X-ALT-DESC;FMTTYPE=text/html:Generalprobe<br /><br />Weitere Termine:<br />
 Jeden Di. 13.01.2026 bis 22.12.2026\, 19:30 bis 21:30 Uhr Außer am:\n Di. 
 26.05.2026\n Di. 02.06.2026\n Di. 28.07.2026\, 19:00 bis 21:00 Uhr\n Di. 0
 4.08.2026\n Di. 11.08.2026\n Di. 18.08.2026\n Di. 25.08.2026<br />So. 08.1
 1.2026\, Zeitplan noch offen<br /><br />Veranstaltungsort: <br />Gemeindeh
 aus an der Lorenzkirche<br />Hauptstraße 27a<br />78112 St. Georgen<br /><
 br />Veranstalter: <br />Evangelisches Kantorat St. Georgen<br />Hauptstra
 ße 27a<br />78112 St. Georgen
END:VEVENT
END:VCALENDAR
