BEGIN:VCALENDAR
VERSION:2.0
PRODID:-//www.eki-sagte.de//NONSGML kigkonsult.se iCalcreator 2.41.92//
CALSCALE:GREGORIAN
METHOD:PUBLISH
UID:35326365-3662-4430-b665-626637356263
X-WR-TIMEZONE:Europe/Berlin
X-LIC-LOCATION:Europe/Berlin
BEGIN:VTIMEZONE
TZID:Europe/Berlin
BEGIN:DAYLIGHT
TZOFFSETFROM:+0100
TZOFFSETTO:+0200
TZNAME:CEST
DTSTART:19700329T020000
RRULE:FREQ=YEARLY;BYDAY=-1SU;BYMONTH=3
END:DAYLIGHT
BEGIN:STANDARD
TZOFFSETFROM:+0200
TZOFFSETTO:+0100
TZNAME:CET
DTSTART:19701025T030000
RRULE:FREQ=YEARLY;BYDAY=-1SU;BYMONTH=10
END:STANDARD
END:VTIMEZONE
BEGIN:VEVENT
UID:65643265-3238-4232-a633-303633653661
DTSTAMP:20260421T135655Z
DESCRIPTION:(FeierAbendTeam)\n \n Veranstaltungsort:\n Evang. Kirche Langen
 schiltach\n Im Tal 21\n 78112 Langenschiltach\n \n Veranstalter:\n Gemeind
 e: St. Georgen-Tennenbronn - Pfarramt: St. Georgen-Tennenbronn\n Hauptstr.
  27 A\n 78112 St. Georgen\n Telefon: 07724-94410
DTSTART;TZID=Europe/Berlin:20260425T193000
DTEND;TZID=Europe/Berlin:20260425T203000
LOCATION:Evang. Kirche Langenschiltach\n - Im Tal 21\n - 78112 Langenschilt
 ach
SUMMARY:Lobpreisgottesdienst FeierAbend 'Ver
X-ALT-DESC;FMTTYPE=text/html:(FeierAbendTeam)<br /><br />Veranstaltungsort:
  <br />Evang. Kirche Langenschiltach<br />Im Tal 21<br />78112 Langenschil
 tach<br /><br />Veranstalter: <br />Gemeinde: St. Georgen-Tennenbronn - Pf
 arramt: St. Georgen-Tennenbronn<br />Hauptstr. 27 A<br />78112 St. Georgen
 <br />Telefon: 07724-94410
END:VEVENT
END:VCALENDAR
